BEGIN:VCALENDAR
VERSION:2.0
PRODID:-//Park Hills Golf Course - ECPv6.15.20//NONSGML v1.0//EN
CALSCALE:GREGORIAN
METHOD:PUBLISH
X-WR-CALNAME:Park Hills Golf Course
X-ORIGINAL-URL:https://www.parkhillsgolfcourse.com
X-WR-CALDESC:Events for Park Hills Golf Course
REFRESH-INTERVAL;VALUE=DURATION:PT1H
X-Robots-Tag:noindex
X-PUBLISHED-TTL:PT1H
BEGIN:VTIMEZONE
TZID:America/Chicago
BEGIN:DAYLIGHT
TZOFFSETFROM:-0600
TZOFFSETTO:-0500
TZNAME:CDT
DTSTART:20240310T080000
END:DAYLIGHT
BEGIN:STANDARD
TZOFFSETFROM:-0500
TZOFFSETTO:-0600
TZNAME:CST
DTSTART:20241103T070000
END:STANDARD
BEGIN:DAYLIGHT
TZOFFSETFROM:-0600
TZOFFSETTO:-0500
TZNAME:CDT
DTSTART:20250309T080000
END:DAYLIGHT
BEGIN:STANDARD
TZOFFSETFROM:-0500
TZOFFSETTO:-0600
TZNAME:CST
DTSTART:20251102T070000
END:STANDARD
BEGIN:DAYLIGHT
TZOFFSETFROM:-0600
TZOFFSETTO:-0500
TZNAME:CDT
DTSTART:20260308T080000
END:DAYLIGHT
BEGIN:STANDARD
TZOFFSETFROM:-0500
TZOFFSETTO:-0600
TZNAME:CST
DTSTART:20261101T070000
END:STANDARD
END:VTIMEZONE
BEGIN:VEVENT
DTSTART;TZID=America/Chicago:20250421T080000
DTEND;TZID=America/Chicago:20250421T170000
DTSTAMP:20260421T140945
CREATED:20250313T161046Z
LAST-MODIFIED:20250313T161046Z
UID:452-1745222400-1745254800@www.parkhillsgolfcourse.com
SUMMARY:HCC Invitational
DESCRIPTION:
URL:https://www.parkhillsgolfcourse.com/event/hcc-invitational/
LOCATION:Park Hills Golf Course\, 3240 W. Stephenson St.\, Freeport\, IL\, 61032\, United States
CATEGORIES:Golf,Tournaments
ORGANIZER;CN="Park Hills Golf Course":MAILTO:contact@freeportparkdistrict.org
END:VEVENT
END:VCALENDAR