BEGIN:VCALENDAR
VERSION:2.0
PRODID:-//Park Hills Golf Course - ECPv6.15.20//NONSGML v1.0//EN
CALSCALE:GREGORIAN
METHOD:PUBLISH
X-WR-CALNAME:Park Hills Golf Course
X-ORIGINAL-URL:https://www.parkhillsgolfcourse.com
X-WR-CALDESC:Events for Park Hills Golf Course
REFRESH-INTERVAL;VALUE=DURATION:PT1H
X-Robots-Tag:noindex
X-PUBLISHED-TTL:PT1H
BEGIN:VTIMEZONE
TZID:America/Chicago
BEGIN:DAYLIGHT
TZOFFSETFROM:-0600
TZOFFSETTO:-0500
TZNAME:CDT
DTSTART:20240310T080000
END:DAYLIGHT
BEGIN:STANDARD
TZOFFSETFROM:-0500
TZOFFSETTO:-0600
TZNAME:CST
DTSTART:20241103T070000
END:STANDARD
BEGIN:DAYLIGHT
TZOFFSETFROM:-0600
TZOFFSETTO:-0500
TZNAME:CDT
DTSTART:20250309T080000
END:DAYLIGHT
BEGIN:STANDARD
TZOFFSETFROM:-0500
TZOFFSETTO:-0600
TZNAME:CST
DTSTART:20251102T070000
END:STANDARD
BEGIN:DAYLIGHT
TZOFFSETFROM:-0600
TZOFFSETTO:-0500
TZNAME:CDT
DTSTART:20260308T080000
END:DAYLIGHT
BEGIN:STANDARD
TZOFFSETFROM:-0500
TZOFFSETTO:-0600
TZNAME:CST
DTSTART:20261101T070000
END:STANDARD
END:VTIMEZONE
BEGIN:VEVENT
DTSTART;TZID=America/Chicago:20250712T070000
DTEND;TZID=America/Chicago:20250712T150000
DTSTAMP:20260421T084009
CREATED:20250129T173917Z
LAST-MODIFIED:20250129T174312Z
UID:304-1752303600-1752332400@www.parkhillsgolfcourse.com
SUMMARY:Freeport City Golf Tournament: East Course
DESCRIPTION:Open to all amateur golfers who either live or work in Stephenson County or are members at Park Hills\, The Freeport Club\, or Wolf Hollow. Golf the East Course July 12th and the West Course July 13th.\n\n\n\nRegister in the Pro Shop by Friday the 11th!
URL:https://www.parkhillsgolfcourse.com/event/freeport-city-golf-tournament-east-course/
LOCATION:Park Hills Golf Course – East Course\, 3240 W. Stephenson St.\, Freeport\, IL\, 61032\, United States
CATEGORIES:Tournaments
END:VEVENT
BEGIN:VEVENT
DTSTART;TZID=America/Chicago:20250713T070000
DTEND;TZID=America/Chicago:20250713T150000
DTSTAMP:20260421T084009
CREATED:20250129T174350Z
LAST-MODIFIED:20250130T210944Z
UID:312-1752390000-1752418800@www.parkhillsgolfcourse.com
SUMMARY:Freeport City Golf Tournament: West Course
DESCRIPTION:Open to all amateur golfers who either live or work in Stephenson County or are members at Park Hills\, The Freeport Club\, or Wolf Hollow. Golf the East Course July 12th and the West Course July 13th.\n\n\n\nRegister in the Pro Shop by Friday the 11th!
URL:https://www.parkhillsgolfcourse.com/event/freeport-city-golf-tournament-west-course/
LOCATION:Park Hills Golf Course – West Course\, 3240 W. Stephenson St.\, Freeport\, IL\, 61032\, United States
CATEGORIES:Tournaments
ORGANIZER;CN="Park Hills Golf Course":MAILTO:contact@freeportparkdistrict.org
END:VEVENT
END:VCALENDAR